BEGIN:VCALENDAR
VERSION:2.0
PRODID:https://www.kufer.de/kuferweb / DE
METHOD:PUBLISH
CALSCALE:GREGORIAN
X-WR-TIMEZONE:Europe/Berlin
BEGIN:VTIMEZONE
TZID:Europe/Berlin
X-LIC-LOCATION:Europe/Berlin
BEGIN:DAYLIGHT
TZOFFSETFROM:+0100
TZOFFSETTO:+0200
TZNAME:CEST
DTSTART:19700329T020000
RRULE:FREQ=YEARLY;INTERVAL=1;BYDAY=-1SU;BYMONTH=3
END:DAYLIGHT
BEGIN:STANDARD
TZOFFSETFROM:+0200
TZOFFSETTO:+0100
TZNAME:CET
DTSTART:19701025T030000
RRULE:FREQ=YEARLY;INTERVAL=1;BYDAY=-1SU;BYMONTH=10
END:STANDARD
END:VTIMEZONE
BEGIN:VEVENT
DTSTAMP:20260422T142012
DTSTART;TZID=Europe/Berlin:20260417T090000
DTEND;TZID=Europe/Berlin:20260417T100000
UID:T3 3.0216-20260417T090000@VHSTRAPPENKAMP
SUMMARY:Wirbelsäulengymnastik in Trappenkamp (9 Uhr) (T3 3.0216) 
LOCATION:vhs-Seminarraum, Goethestr. 1, 24610 Trappenkamp
END:VEVENT
BEGIN:VEVENT
DTSTAMP:20260422T142012
DTSTART;TZID=Europe/Berlin:20260424T090000
DTEND;TZID=Europe/Berlin:20260424T100000
UID:T3 3.0216-20260424T090000@VHSTRAPPENKAMP
SUMMARY:Wirbelsäulengymnastik in Trappenkamp (9 Uhr) (T3 3.0216) 
LOCATION:vhs-Seminarraum, Goethestr. 1, 24610 Trappenkamp
END:VEVENT
BEGIN:VEVENT
DTSTAMP:20260422T142012
DTSTART;TZID=Europe/Berlin:20260508T090000
DTEND;TZID=Europe/Berlin:20260508T100000
UID:T3 3.0216-20260508T090000@VHSTRAPPENKAMP
SUMMARY:Wirbelsäulengymnastik in Trappenkamp (9 Uhr) (T3 3.0216) 
LOCATION:vhs-Seminarraum, Goethestr. 1, 24610 Trappenkamp
END:VEVENT
BEGIN:VEVENT
DTSTAMP:20260422T142012
DTSTART;TZID=Europe/Berlin:20260522T090000
DTEND;TZID=Europe/Berlin:20260522T100000
UID:T3 3.0216-20260522T090000@VHSTRAPPENKAMP
SUMMARY:Wirbelsäulengymnastik in Trappenkamp (9 Uhr) (T3 3.0216) 
LOCATION:vhs-Seminarraum, Goethestr. 1, 24610 Trappenkamp
END:VEVENT
BEGIN:VEVENT
DTSTAMP:20260422T142012
DTSTART;TZID=Europe/Berlin:20260529T090000
DTEND;TZID=Europe/Berlin:20260529T100000
UID:T3 3.0216-20260529T090000@VHSTRAPPENKAMP
SUMMARY:Wirbelsäulengymnastik in Trappenkamp (9 Uhr) (T3 3.0216) 
LOCATION:vhs-Seminarraum, Goethestr. 1, 24610 Trappenkamp
END:VEVENT
BEGIN:VEVENT
DTSTAMP:20260422T142012
DTSTART;TZID=Europe/Berlin:20260605T090000
DTEND;TZID=Europe/Berlin:20260605T100000
UID:T3 3.0216-20260605T090000@VHSTRAPPENKAMP
SUMMARY:Wirbelsäulengymnastik in Trappenkamp (9 Uhr) (T3 3.0216) 
LOCATION:vhs-Seminarraum, Goethestr. 1, 24610 Trappenkamp
END:VEVENT
BEGIN:VEVENT
DTSTAMP:20260422T142012
DTSTART;TZID=Europe/Berlin:20260612T090000
DTEND;TZID=Europe/Berlin:20260612T100000
UID:T3 3.0216-20260612T090000@VHSTRAPPENKAMP
SUMMARY:Wirbelsäulengymnastik in Trappenkamp (9 Uhr) (T3 3.0216) 
LOCATION:vhs-Seminarraum, Goethestr. 1, 24610 Trappenkamp
END:VEVENT
BEGIN:VEVENT
DTSTAMP:20260422T142012
DTSTART;TZID=Europe/Berlin:20260619T090000
DTEND;TZID=Europe/Berlin:20260619T100000
UID:T3 3.0216-20260619T090000@VHSTRAPPENKAMP
SUMMARY:Wirbelsäulengymnastik in Trappenkamp (9 Uhr) (T3 3.0216) 
LOCATION:vhs-Seminarraum, Goethestr. 1, 24610 Trappenkamp
END:VEVENT
BEGIN:VEVENT
DTSTAMP:20260422T142012
DTSTART;TZID=Europe/Berlin:20260626T090000
DTEND;TZID=Europe/Berlin:20260626T100000
UID:T3 3.0216-20260626T090000@VHSTRAPPENKAMP
SUMMARY:Wirbelsäulengymnastik in Trappenkamp (9 Uhr) (T3 3.0216) 
LOCATION:vhs-Seminarraum, Goethestr. 1, 24610 Trappenkamp
END:VEVENT
BEGIN:VEVENT
DTSTAMP:20260422T142012
DTSTART;TZID=Europe/Berlin:20260703T090000
DTEND;TZID=Europe/Berlin:20260703T100000
UID:T3 3.0216-20260703T090000@VHSTRAPPENKAMP
SUMMARY:Wirbelsäulengymnastik in Trappenkamp (9 Uhr) (T3 3.0216) 
LOCATION:vhs-Seminarraum, Goethestr. 1, 24610 Trappenkamp
END:VEVENT
END:VCALENDAR